BEGIN:VCALENDAR
METHOD:PUBLISH
PRODID:evanced event management system
VERSION:2.0
BEGIN:VEVENT
UID:http://events.wlnonline.org/eventsignup.asp?ID=47537
DTSTAMP:20260130T131730Z
DTSTART:20260203T150000Z
DTEND:20260203T150000Z
TITLE;ENCODING=QUOTED-PRINTABLE:Books &  Blocks
SUMMARY;ENCODING=QUOTED-PRINTABLE:Books &  Blocks
DESCRIPTION;ENCODING=QUOTED-PRINTABLE:Tuesday mornings, 10:00 am=0D=0AFor ages 6–36 months=0D=0AWe’ll sing, play, dance, and share stories—all while building early literacy skills and encouraging both fine and gross motor development. 
LOCATION:Penn Area Library at Multipurpose Room
URL:http://events.wlnonline.org/eventsignup.asp?ID=47537
CATEGORIES:Children's Program
END:VEVENT
END:VCALENDAR
