BEGIN:VCALENDAR
METHOD:PUBLISH
PRODID:evanced event management system
VERSION:2.0
BEGIN:VEVENT
UID:http://events.wlnonline.org/eventsignup.asp?ID=47447
DTSTAMP:20260123T110923Z
DTSTART:20260309T220000Z
DTEND:20260309T230000Z
TITLE;ENCODING=QUOTED-PRINTABLE:Anime Club
SUMMARY;ENCODING=QUOTED-PRINTABLE:Anime Club
DESCRIPTION;ENCODING=QUOTED-PRINTABLE:Are you a fan of Japanese anime and/or manga from the ages of 13-18? The Anime Club is for you! Join fellow fans of both anime and manga as a place to talk about and recommend your favorites, do crafts and themed activities, and enjoy free snacks. No registration needed!
LOCATION:Murrysville Community Library at Conference Room #1
URL:http://events.wlnonline.org/eventsignup.asp?ID=47447
CATEGORIES:Teen Program
END:VEVENT
END:VCALENDAR
