BEGIN:VCALENDAR
METHOD:PUBLISH
PRODID:evanced event management system
VERSION:2.0
BEGIN:VEVENT
UID:http://events.wlnonline.org/eventsignup.asp?ID=47443
DTSTAMP:20260122T131614Z
DTSTART:20260924T210000Z
DTEND:20260924T220000Z
TITLE;ENCODING=QUOTED-PRINTABLE:Lego Club
SUMMARY;ENCODING=QUOTED-PRINTABLE:Lego Club
DESCRIPTION;ENCODING=QUOTED-PRINTABLE:Monthly LEGO Club for children of all ages.=0D=0ABuild with jumbo blocks, Duplo train sets, and classic LEGO bricks.=0D=0AFamilies can drop in, create at their own pace, and return each month to continue projects or try something new.=0D=0ACreations will be featured in the library's LEGO display.=0D=0A=0D=0AAdult participation encouraged. | Drop-in program. | Come when you can!
LOCATION:Ligonier Valley Library at Smart Room
URL:http://events.wlnonline.org/eventsignup.asp?ID=47443
CATEGORIES:Children's Program
END:VEVENT
END:VCALENDAR
