BEGIN:VCALENDAR
METHOD:PUBLISH
PRODID:evanced event management system
VERSION:2.0
BEGIN:VEVENT
UID:http://events.wlnonline.org/eventsignup.asp?ID=47435
DTSTAMP:20260126T074310Z
DTSTART:20260205T223000Z
DTEND:20260205T223000Z
TITLE;ENCODING=QUOTED-PRINTABLE:Adult Craft Night!
SUMMARY;ENCODING=QUOTED-PRINTABLE:Adult Craft Night!
DESCRIPTION;ENCODING=QUOTED-PRINTABLE:Join Kelly for a relaxing and creative night of crafting!
LOCATION:Rostraver Public Library
URL:http://events.wlnonline.org/eventsignup.asp?ID=47435
CATEGORIES:Arts & Culture
END:VEVENT
END:VCALENDAR
