BEGIN:VCALENDAR
METHOD:PUBLISH
PRODID:evanced event management system
VERSION:2.0
BEGIN:VEVENT
UID:http://events.wlnonline.org/eventsignup.asp?ID=47430
DTSTAMP:20260120T131736Z
DTSTART:20260521T140000Z
DTEND:20260521T150000Z
TITLE;ENCODING=QUOTED-PRINTABLE:Monthly Book Club
SUMMARY;ENCODING=QUOTED-PRINTABLE:Monthly Book Club
DESCRIPTION;ENCODING=QUOTED-PRINTABLE:Meet and discuss a new book selection every month.
LOCATION:Monessen Public Library
URL:http://events.wlnonline.org/eventsignup.asp?ID=47430
CATEGORIES:Adult Program
END:VEVENT
END:VCALENDAR
