BEGIN:VCALENDAR
METHOD:PUBLISH
PRODID:evanced event management system
VERSION:2.0
BEGIN:VEVENT
UID:http://events.wlnonline.org/eventsignup.asp?ID=47418
DTSTAMP:20260116T142920Z
DTSTART:20260202T220000Z
DTEND:20260202T230000Z
TITLE;ENCODING=QUOTED-PRINTABLE:Monday Meditation
SUMMARY;ENCODING=QUOTED-PRINTABLE:Monday Meditation
DESCRIPTION;ENCODING=QUOTED-PRINTABLE:A warm welcome to our Monday night meditation experience! Facilitated by Eric D. Biseca, N.D., we are opening the conference room for both beginners and experienced folks who want to explore conscious breathwork, self-awareness and mindfulness in a secular and comfortable format. The facilitation will allow for instruction, reflection, and brief discussion while promoting community culture around mindfulness. We are excited to begin and look forward to all that can participate! Register online at www.murrysvillelibrary.org or call the library at 724-327-1102.
LOCATION:Murrysville Community Library at Murrysville Community Library Room 1
URL:http://events.wlnonline.org/eventsignup.asp?ID=47418
CATEGORIES:Adult Program
END:VEVENT
END:VCALENDAR
