BEGIN:VCALENDAR
METHOD:PUBLISH
PRODID:evanced event management system
VERSION:2.0
BEGIN:VEVENT
UID:http://events.wlnonline.org/eventsignup.asp?ID=47415
DTSTAMP:20260116T123721Z
DTSTART:20260125T030000Z
DTEND:20260125T030000Z
TITLE;ENCODING=QUOTED-PRINTABLE:Puzzle Sale
SUMMARY;ENCODING=QUOTED-PRINTABLE:Puzzle Sale
DESCRIPTION;ENCODING=QUOTED-PRINTABLE:The Friends of Penn Area Library are hosting a Puzzle Sale on Saturday January 24th from 10:00 AM -3:00 PM.
LOCATION:Penn Area Library at Library
URL:http://events.wlnonline.org/eventsignup.asp?ID=47415
CATEGORIES:Library
END:VEVENT
END:VCALENDAR
