BEGIN:VCALENDAR
METHOD:PUBLISH
PRODID:evanced event management system
VERSION:2.0
BEGIN:VEVENT
UID:http://events.wlnonline.org/eventsignup.asp?ID=47411
DTSTAMP:20260116T104937Z
DTSTART:20260217T223000Z
DTEND:20260217T233000Z
TITLE;ENCODING=QUOTED-PRINTABLE:STEM Around the World
SUMMARY;ENCODING=QUOTED-PRINTABLE:STEM Around the World
DESCRIPTION;ENCODING=QUOTED-PRINTABLE:Join us for storytime and a themed craft the 3rd Tuesday of each month, with hands-on learning about science, technology, engineering, and mathematics! Grades K - 4. Register online at www.murrysvillelibrary.org or call the library at 724-327-1102. Please register for each session separately.
LOCATION:Murrysville Community Library at Conference Room #1
URL:http://events.wlnonline.org/eventsignup.asp?ID=47411
CATEGORIES:Children's Program
END:VEVENT
END:VCALENDAR
