BEGIN:VCALENDAR
METHOD:PUBLISH
PRODID:evanced event management system
VERSION:2.0
BEGIN:VEVENT
UID:http://events.wlnonline.org/eventsignup.asp?ID=47380
DTSTAMP:20260316T094538Z
DTSTART:20260404T133000Z
DTEND:20260404T173000Z
TITLE;ENCODING=QUOTED-PRINTABLE:Chess Tournament
SUMMARY;ENCODING=QUOTED-PRINTABLE:Chess Tournament
DESCRIPTION;ENCODING=QUOTED-PRINTABLE:Come participate in the county-wide chess tournament and be sure to register at the link to ensure that you're signed up for only one tournament!  Registration open for grades 4 - 12.  Link as follows:   https://tinyurl.com/3p7f5y4x  
LOCATION:Murrysville Community Library at Conference Rooms 1 & 2
URL:http://events.wlnonline.org/eventsignup.asp?ID=47380
CATEGORIES:Children's Program
END:VEVENT
END:VCALENDAR
