BEGIN:VCALENDAR
METHOD:PUBLISH
PRODID:evanced event management system
VERSION:2.0
BEGIN:VEVENT
UID:http://events.wlnonline.org/eventsignup.asp?ID=47306
DTSTAMP:20260106T112606Z
DTSTART:20260115T220000Z
DTEND:20260115T220000Z
TITLE;ENCODING=QUOTED-PRINTABLE:Block Party: Lego Challenge
SUMMARY;ENCODING=QUOTED-PRINTABLE:Block Party: Lego Challenge
DESCRIPTION;ENCODING=QUOTED-PRINTABLE:Get your brick on! =0D=0A=0D=0AConstruct your way through creative challenges this fall with our favorite building materials: Lego blocks! 
LOCATION:Penn Area Library at Multipurpose Room
URL:http://events.wlnonline.org/eventsignup.asp?ID=47306
CATEGORIES:STEM
END:VEVENT
END:VCALENDAR
