BEGIN:VCALENDAR
METHOD:PUBLISH
PRODID:evanced event management system
VERSION:2.0
BEGIN:VEVENT
UID:http://events.wlnonline.org/eventsignup.asp?ID=46513
DTSTAMP:20251220T153305Z
DTSTART:20260311T150000Z
DTEND:20260311T160000Z
TITLE;ENCODING=QUOTED-PRINTABLE:Preschool Story Time
SUMMARY;ENCODING=QUOTED-PRINTABLE:Preschool Story Time
DESCRIPTION;ENCODING=QUOTED-PRINTABLE:Come join Miss Katie for fun with stories, crafts and more! Both story times at the Greensburg Hempfield Area Library will be the same, please choose one to attend. Register once to attend all sessions. Registration required.
LOCATION:Greensburg Hempfield Area Library at Greensburg Hempfield Library
URL:http://events.wlnonline.org/eventsignup.asp?ID=46513
CATEGORIES:Children's Program
END:VEVENT
END:VCALENDAR
