BEGIN:VCALENDAR
METHOD:PUBLISH
PRODID:evanced event management system
VERSION:2.0
BEGIN:VEVENT
UID:http://events.wlnonline.org/eventsignup.asp?ID=46346
DTSTAMP:20251211T094303Z
DTSTART:20251212T030000Z
DTEND:20251212T030000Z
TITLE;ENCODING=QUOTED-PRINTABLE:Wiggles & Wonders
SUMMARY;ENCODING=QUOTED-PRINTABLE:Wiggles & Wonders
DESCRIPTION;ENCODING=QUOTED-PRINTABLE:Get ready to wiggle, giggle, and explore! Wiggles and Wonders is a sensory storytime designed especially for babies ages 0 - 2. Each session includes songs, rhymes, movement, and interactive play that
LOCATION:Penn Area Library at Multipurpose Room
URL:http://events.wlnonline.org/eventsignup.asp?ID=46346
CATEGORIES:Book Club
END:VEVENT
END:VCALENDAR
