BEGIN:VCALENDAR
METHOD:PUBLISH
PRODID:evanced event management system
VERSION:2.0
BEGIN:VEVENT
UID:http://events.wlnonline.org/eventsignup.asp?ID=46342
DTSTAMP:20251204T092452Z
DTSTART:20251212T150000Z
DTEND:20251212T150000Z
TITLE;ENCODING=QUOTED-PRINTABLE:Pre-K Picassos
SUMMARY;ENCODING=QUOTED-PRINTABLE:Pre-K Picassos
DESCRIPTION;ENCODING=QUOTED-PRINTABLE:Get ready to paint, splash, and create! Join us for Pre-K Picassos, a playful art program where little artists explore colors, textures, and techniques through process art inspired by famous masterpieces. No pressure—just pure creativity and fun! Perfect for curious kids who love to get a little messy.
LOCATION:Penn Area Library at Multipurpose Room
URL:http://events.wlnonline.org/eventsignup.asp?ID=46342
CATEGORIES:Family Friendly
END:VEVENT
END:VCALENDAR
