BEGIN:VCALENDAR
METHOD:PUBLISH
PRODID:evanced event management system
VERSION:2.0
BEGIN:VEVENT
UID:http://events.wlnonline.org/eventsignup.asp?ID=46294
DTSTAMP:20251129T114035Z
DTSTART:20251230T230000Z
DTEND:20251231T000000Z
TITLE;ENCODING=QUOTED-PRINTABLE:Inked & Glued
SUMMARY;ENCODING=QUOTED-PRINTABLE:Inked & Glued
DESCRIPTION;ENCODING=QUOTED-PRINTABLE:Bring your favorite journal or planner to explore creative journaling, mindful planning, and everything in-between. Meet others who love paper crafts, design, and artistic expression in a casual creative space. Register online at www.murrysvillelibrary.org or call the library at 724-327-1102.
LOCATION:Murrysville Community Library at Conference Room #1
URL:http://events.wlnonline.org/eventsignup.asp?ID=46294
CATEGORIES:Adult Program
END:VEVENT
END:VCALENDAR
