BEGIN:VCALENDAR
METHOD:PUBLISH
PRODID:evanced event management system
VERSION:2.0
BEGIN:VEVENT
UID:http://events.wlnonline.org/eventsignup.asp?ID=46277
DTSTAMP:20251125T100602Z
DTSTART:20251215T180000Z
DTEND:20251215T180000Z
TITLE;ENCODING=QUOTED-PRINTABLE:Inquire Within Holidays Take Home Kit
SUMMARY;ENCODING=QUOTED-PRINTABLE:Inquire Within Holidays Take Home Kit
DESCRIPTION;ENCODING=QUOTED-PRINTABLE:Whatever holiday you celebrate in December, we’ve got you covered! Thanks to our friends at WQED Education and Clearview Federal Credit Union, take home kits will be available in the Children’s Room starting Monday, December 15, so you can follow along on our website or social media! While supplies last!=0D=0A
LOCATION:Adams Memorial Library at Online
URL:http://events.wlnonline.org/eventsignup.asp?ID=46277
CATEGORIES:Children's Program
END:VEVENT
END:VCALENDAR
