BEGIN:VCALENDAR
METHOD:PUBLISH
PRODID:evanced event management system
VERSION:2.0
BEGIN:VEVENT
UID:http://events.wlnonline.org/eventsignup.asp?ID=46276
DTSTAMP:20260213T110536Z
DTSTART:20260302T233000Z
DTEND:20260303T010000Z
TITLE;ENCODING=QUOTED-PRINTABLE:Socrates Cafe
SUMMARY;ENCODING=QUOTED-PRINTABLE:Socrates Cafe
DESCRIPTION;ENCODING=QUOTED-PRINTABLE:Socrates Cafe is an affiliate of the Society of Philosophical Inquiry. New members are always welcome. We believe a diversity of opinion is important for a true exchange of ideas. The topic for discussion this month is Living Wage - is it desirable or feasible in a Capitalistic system?  The group meets the first Monday of each month. Register online at www.murrysvillelibrary.org or call the library at 724-327-1102.
LOCATION:Murrysville Community Library at Conference Room #1
URL:http://events.wlnonline.org/eventsignup.asp?ID=46276
CATEGORIES:Adult Program
END:VEVENT
END:VCALENDAR
