BEGIN:VCALENDAR
METHOD:PUBLISH
PRODID:evanced event management system
VERSION:2.0
BEGIN:VEVENT
UID:http://events.wlnonline.org/eventsignup.asp?ID=46275
DTSTAMP:20251125T100434Z
DTSTART:20251208T180000Z
DTEND:20251208T180000Z
TITLE;ENCODING=QUOTED-PRINTABLE:Bake a Tale: Gingerbread Bar Cookies 
SUMMARY;ENCODING=QUOTED-PRINTABLE:Bake a Tale: Gingerbread Bar Cookies 
DESCRIPTION;ENCODING=QUOTED-PRINTABLE:Gingerbread is the (very appropriate) cookie this month! Pick up your free recipe and activity kit starting Monday, December 8, so you can follow along on our website or social media! While supplies last! 
LOCATION:Adams Memorial Library at Online
URL:http://events.wlnonline.org/eventsignup.asp?ID=46275
CATEGORIES:Children's Program
END:VEVENT
END:VCALENDAR
