BEGIN:VCALENDAR
METHOD:PUBLISH
PRODID:evanced event management system
VERSION:2.0
BEGIN:VEVENT
UID:http://events.wlnonline.org/eventsignup.asp?ID=46272
DTSTAMP:20251125T100152Z
DTSTART:20251206T150000Z
DTEND:20251206T200000Z
TITLE;ENCODING=QUOTED-PRINTABLE:Holly Jolly Craft
SUMMARY;ENCODING=QUOTED-PRINTABLE:Holly Jolly Craft
DESCRIPTION;ENCODING=QUOTED-PRINTABLE:Join WQED at the library and make an international holiday tradition-themed craft to celebrate the season! This craft is for all-ages and will be available on Saturday, December 6 from 10:00AM - 3:00PM!
LOCATION:Adams Memorial Library at Quiet Study Room
URL:http://events.wlnonline.org/eventsignup.asp?ID=46272
CATEGORIES:Children's Program
END:VEVENT
END:VCALENDAR
