BEGIN:VCALENDAR
METHOD:PUBLISH
PRODID:evanced event management system
VERSION:2.0
BEGIN:VEVENT
UID:http://events.wlnonline.org/eventsignup.asp?ID=46269
DTSTAMP:20251125T095847Z
DTSTART:20251210T180000Z
DTEND:20251210T180000Z
TITLE;ENCODING=QUOTED-PRINTABLE:Storytime 
SUMMARY;ENCODING=QUOTED-PRINTABLE:Storytime 
DESCRIPTION;ENCODING=QUOTED-PRINTABLE:Designed for friends from 2½ to 5 years old who enjoy listening to stories, and their caregivers.  This storytime features books on a different theme each week, plus songs and rhymes. The same Preschool Storytime session is repeated Wednesday and Thursday each week. Please register by calling the Children’s Room at 724-537-4383 or stopping by the Children’s Room desk. Space may be limited! Wednesdays at 1pm and Thursdays at 11;30am or 1pm.  If the Greater Latrobe School District is closed or delayed for weather-related reasons, there will be no Wee Read or Preschool Storytime!
LOCATION:Adams Memorial Library at Reed Room
URL:http://events.wlnonline.org/eventsignup.asp?ID=46269
CATEGORIES:Children's Program
END:VEVENT
END:VCALENDAR
