BEGIN:VCALENDAR
METHOD:PUBLISH
PRODID:evanced event management system
VERSION:2.0
BEGIN:VEVENT
UID:http://events.wlnonline.org/eventsignup.asp?ID=46262
DTSTAMP:20251125T095909Z
DTSTART:20251203T153000Z
DTEND:20251203T153000Z
TITLE;ENCODING=QUOTED-PRINTABLE:Wee Read 
SUMMARY;ENCODING=QUOTED-PRINTABLE:Wee Read 
DESCRIPTION;ENCODING=QUOTED-PRINTABLE:Designed for our youngest friends (from birth to 2½ years old) and their caregivers. Wee Read combines songs, rhymes, and socialization for a fun and engaging early literacy experience. The same Wee Read session is repeated Tuesday through Thursday each week. Please register by calling the Children’s Room at 724-537-4383 or stopping by the Children’s Room desk. Space may be limited!   If the Greater Latrobe School District is closed or delayed for weather-related reasons,=0D=0Athere will be no Wee Read or Preschool Storytime!
LOCATION:Adams Memorial Library at Reed Room
URL:http://events.wlnonline.org/eventsignup.asp?ID=46262
CATEGORIES:Children's Program
END:VEVENT
END:VCALENDAR
