BEGIN:VCALENDAR
METHOD:PUBLISH
PRODID:evanced event management system
VERSION:2.0
BEGIN:VEVENT
UID:http://events.wlnonline.org/eventsignup.asp?ID=45850
DTSTAMP:20251021T104154Z
DTSTART:20251111T223000Z
DTEND:20251112T000000Z
TITLE;ENCODING=QUOTED-PRINTABLE:English Conversation Group
SUMMARY;ENCODING=QUOTED-PRINTABLE:English Conversation Group
DESCRIPTION;ENCODING=QUOTED-PRINTABLE:Join us for an English Conversation Group on the 2nd Tuesday of each month. Meet other adult English language learners for informal and guided conversation practice. This is a virtual program, where you can join us on Zoom from the comfort of your home! Open to all English language learners. The moderator is a professional English as a Second Language (ESL) teacher with over 15 years of experience. Register online at https://www.murrysvillelibrary.org/ or call the library at 724-327-1102.
LOCATION:Murrysville Community Library at Virtual Meeting 
URL:http://events.wlnonline.org/eventsignup.asp?ID=45850
CATEGORIES:Adult Program
END:VEVENT
END:VCALENDAR
