BEGIN:VCALENDAR
METHOD:PUBLISH
PRODID:evanced event management system
VERSION:2.0
BEGIN:VEVENT
UID:http://events.wlnonline.org/eventsignup.asp?ID=45836
DTSTAMP:20251017T115423Z
DTSTART:20251110T230000Z
DTEND:20251111T003000Z
TITLE;ENCODING=QUOTED-PRINTABLE:Plant-Based Nutrition 
SUMMARY;ENCODING=QUOTED-PRINTABLE:Plant-Based Nutrition 
DESCRIPTION;ENCODING=QUOTED-PRINTABLE:Plant-Based Nutrition will meet Monday, November 10 from 6 to 7:30p.m. The meetings from December 2025 through May of 2026 will be held on the second Saturday of the month from 1pm to 2:30pm. 
LOCATION:Murrysville Community Library at Conference Rooms 1 & 2
URL:http://events.wlnonline.org/eventsignup.asp?ID=45836
CATEGORIES:Adult Program
END:VEVENT
END:VCALENDAR
