BEGIN:VCALENDAR
METHOD:PUBLISH
PRODID:evanced event management system
VERSION:2.0
BEGIN:VEVENT
UID:http://events.wlnonline.org/eventsignup.asp?ID=45788
DTSTAMP:20251008T105450Z
DTSTART:20251023T220000Z
DTEND:20251023T233000Z
TITLE;ENCODING=QUOTED-PRINTABLE:Comedy at the Library
SUMMARY;ENCODING=QUOTED-PRINTABLE:Comedy at the Library
DESCRIPTION;ENCODING=QUOTED-PRINTABLE:Join us for an evening of laughter with comedians, Mary Warwick and Chris Nakis. This event is sponsored by the Friends of Penn Area Library.
LOCATION:Penn Area Library at Multipurpose Room
URL:http://events.wlnonline.org/eventsignup.asp?ID=45788
CATEGORIES:Adult Program
END:VEVENT
END:VCALENDAR
