BEGIN:VCALENDAR
METHOD:PUBLISH
PRODID:evanced event management system
VERSION:2.0
BEGIN:VEVENT
UID:http://events.wlnonline.org/eventsignup.asp?ID=45777
DTSTAMP:20250930T133556Z
DTSTART:20251009T140000Z
DTEND:20251009T150000Z
TITLE;ENCODING=QUOTED-PRINTABLE:CANCELLED PROGRAM - Yoga for Grief
SUMMARY;ENCODING=QUOTED-PRINTABLE:CANCELLED PROGRAM - Yoga for Grief
DESCRIPTION;ENCODING=QUOTED-PRINTABLE:CANCELLED PROGRAM - What is Yoga for Grief? Grief and emotions can be felt in our bodies - tight shoulders, a stomach ache, heart ache, and beyond. In this class, participants will be gently guided in noticing what's happening in their bodies and minds, and practice a variety techniques to work with those sensations and support their grieving process. No experience is necessary and all are welcome in this class. This is Chair Yoga -- no yoga mats required, but you’re welcome to bring one. Class led by Three Rivers Hospice Bereavement Counselor.  Register on-online at www.murrysvillelibrary.org or call the library at 724-327-1102.
LOCATION:Murrysville Community Library at Conference Room #1
URL:http://events.wlnonline.org/eventsignup.asp?ID=45777
CATEGORIES:Adult Program
END:VEVENT
END:VCALENDAR
