BEGIN:VCALENDAR
METHOD:PUBLISH
PRODID:evanced event management system
VERSION:2.0
BEGIN:VEVENT
UID:http://events.wlnonline.org/eventsignup.asp?ID=45776
DTSTAMP:20251124T101627Z
DTSTART:20251201T233000Z
DTEND:20251202T010000Z
TITLE;ENCODING=QUOTED-PRINTABLE:Socrates Cafe
SUMMARY;ENCODING=QUOTED-PRINTABLE:Socrates Cafe
DESCRIPTION;ENCODING=QUOTED-PRINTABLE:Socrates Cafe is an affiliate of the Society of Philosophical Inquiry. New members are always welcome. We believe a diversity of opinion is important for a true exchange of ideas. The group meets the first Monday of each month. The topic for discussion this month is What is knowledge and how is it acquired?  Register online at www.murrysvillelibrary.org or call the library at 724-327-1102.
LOCATION:Murrysville Community Library at Conference Room #1
URL:http://events.wlnonline.org/eventsignup.asp?ID=45776
CATEGORIES:Adult Program
END:VEVENT
END:VCALENDAR
