BEGIN:VCALENDAR
METHOD:PUBLISH
PRODID:evanced event management system
VERSION:2.0
BEGIN:VEVENT
UID:http://events.wlnonline.org/eventsignup.asp?ID=45761
DTSTAMP:20250929T100038Z
DTSTART:20251025T220000Z
DTEND:20251025T220000Z
TITLE;ENCODING=QUOTED-PRINTABLE:Wine Event at Rostraver Public Library
SUMMARY;ENCODING=QUOTED-PRINTABLE:Wine Event at Rostraver Public Library
DESCRIPTION;ENCODING=QUOTED-PRINTABLE:Rostraver & Smithton Public Libraries Present: A Wine Tasting Event!=0D=0AJoin us for an evening of wine, fun, and community! Local wineries, along with a selection of wines from around the world, will be featured. The event will also include delicious appetizers, exciting raffles, and a variety of wine samples to enjoy.=0D=0ACome sip, savor, and support your local libraries!=0D=0ATicket Information:=0D=0ACost: $50 per person (cash/check only)=0D=0ATickets available at Rostraver and Smithton Public Libraries=0D=0A=0D=0ABottle Sponsorships Available!=0D=0AWe are offering sponsorship opportunities for businesses and individuals to support the event:=0D=0A$100, $200, and $400 sponsorship levels=0D=0AEach sponsorship covers a bottle to be auctioned off during the event. Your name, logo, or business will be proudly displayed and announced alongside the bottle at auction time.=0D=0AInterested in Sponsoring?=0D=0AContact Tony at 724-396-8393 for more information.
LOCATION:Rostraver Public Library
URL:http://events.wlnonline.org/eventsignup.asp?ID=45761
CATEGORIES:Charity & Fundraising
END:VEVENT
END:VCALENDAR
