BEGIN:VCALENDAR
METHOD:PUBLISH
PRODID:evanced event management system
VERSION:2.0
BEGIN:VEVENT
UID:http://events.wlnonline.org/eventsignup.asp?ID=45749
DTSTAMP:20250927T105004Z
DTSTART:20251015T193000Z
DTEND:20251015T193000Z
TITLE;ENCODING=QUOTED-PRINTABLE:Homeschool Hangouts
SUMMARY;ENCODING=QUOTED-PRINTABLE:Homeschool Hangouts
DESCRIPTION;ENCODING=QUOTED-PRINTABLE:Welcome back to Homeschool Hangouts! Join us to connect with other local homeschooling families and our Youth Services Coordinator, Laura.=0D=0A=0D=0AAt this event we will have coffee and donuts and blocks of all kinds for children of all ages.=0D=0A=0D=0AHello  there, I’m Laura! I truly believe that libraries serve as community hubs, and I’m eager to connect with all local parents and caregivers. Together, we can find ways for our library to better meet the educational and social-emotional needs of your children.”
LOCATION:Penn Area Library at Multipurpose Room
URL:http://events.wlnonline.org/eventsignup.asp?ID=45749
CATEGORIES:Children's Program
END:VEVENT
END:VCALENDAR
