BEGIN:VCALENDAR
METHOD:PUBLISH
PRODID:evanced event management system
VERSION:2.0
BEGIN:VEVENT
UID:http://events.wlnonline.org/eventsignup.asp?ID=45692
DTSTAMP:20250926T125824Z
DTSTART:20251105T150000Z
DTEND:20251105T163000Z
TITLE;ENCODING=QUOTED-PRINTABLE:Writers Group
SUMMARY;ENCODING=QUOTED-PRINTABLE:Writers Group
DESCRIPTION;ENCODING=QUOTED-PRINTABLE:Writers of all levels meet at Rostraver Library to talk about writing styles, methods, and their current or future projects. New members are welcome!
LOCATION:Rostraver Public Library
URL:http://events.wlnonline.org/eventsignup.asp?ID=45692
CATEGORIES:Adult Program
END:VEVENT
END:VCALENDAR
