BEGIN:VCALENDAR
METHOD:PUBLISH
PRODID:evanced event management system
VERSION:2.0
BEGIN:VEVENT
UID:http://events.wlnonline.org/eventsignup.asp?ID=45689
DTSTAMP:20250926T120405Z
DTSTART:20251218T160000Z
DTEND:20251218T173000Z
TITLE;ENCODING=QUOTED-PRINTABLE:Thursday Morning Book Group
SUMMARY;ENCODING=QUOTED-PRINTABLE:Thursday Morning Book Group
DESCRIPTION;ENCODING=QUOTED-PRINTABLE:The group meets the 3rd Thursday of each month. The book selection for this month's discussion is The Magpie Murders by Anthony Horowitz.
LOCATION:Murrysville Community Library at Conference Rooms 1 & 2
URL:http://events.wlnonline.org/eventsignup.asp?ID=45689
CATEGORIES:Adult Program
END:VEVENT
END:VCALENDAR
