BEGIN:VCALENDAR
METHOD:PUBLISH
PRODID:evanced event management system
VERSION:2.0
BEGIN:VEVENT
UID:http://events.wlnonline.org/eventsignup.asp?ID=45688
DTSTAMP:20250926T120332Z
DTSTART:20251216T190000Z
DTEND:20251216T203000Z
TITLE;ENCODING=QUOTED-PRINTABLE:Tuesday Afternoon Book Group
SUMMARY;ENCODING=QUOTED-PRINTABLE:Tuesday Afternoon Book Group
DESCRIPTION;ENCODING=QUOTED-PRINTABLE:The group meets the third Tuesday afternoon of each month. The book for discussion for December is: My Name is Emilia del Valle by Isabelle Allende.
LOCATION:Murrysville Community Library at Conference Rooms 1 & 2
URL:http://events.wlnonline.org/eventsignup.asp?ID=45688
CATEGORIES:Adult Program
END:VEVENT
END:VCALENDAR
