BEGIN:VCALENDAR
METHOD:PUBLISH
PRODID:evanced event management system
VERSION:2.0
BEGIN:VEVENT
UID:http://events.wlnonline.org/eventsignup.asp?ID=45535
DTSTAMP:20250923T094920Z
DTSTART:20251124T230000Z
DTEND:20251125T010000Z
TITLE;ENCODING=QUOTED-PRINTABLE:Writer's Block and Brew
SUMMARY;ENCODING=QUOTED-PRINTABLE:Writer's Block and Brew
DESCRIPTION;ENCODING=QUOTED-PRINTABLE:Falling behind on your November novel writing? Bring your writing projects for a laid-back write-in with tea, coffee, and hot cocoa.  Register online at www.murrysvillelibrary.org or call the library at 724-327-1102.=0D=0A
LOCATION:Murrysville Community Library at Murrysville Community Library Room 1
URL:http://events.wlnonline.org/eventsignup.asp?ID=45535
CATEGORIES:Adult Program
END:VEVENT
END:VCALENDAR
