BEGIN:VCALENDAR
METHOD:PUBLISH
PRODID:evanced event management system
VERSION:2.0
BEGIN:VEVENT
UID:http://events.wlnonline.org/eventsignup.asp?ID=45365
DTSTAMP:20250829T112129Z
DTSTART:20251007T220000Z
DTEND:20251007T233000Z
TITLE;ENCODING=QUOTED-PRINTABLE:Stock Investing with Mike Zetwo - Part 1 of 3
SUMMARY;ENCODING=QUOTED-PRINTABLE:Stock Investing with Mike Zetwo - Part 1 of 3
DESCRIPTION;ENCODING=QUOTED-PRINTABLE:Interested in stock investing but don't know where to start?  The Murrysville Library Adult Program is offering a 3-part seminar for those who would like to learn more about stock investing.  For more than 40 years, Mike Zetwo's hobby has been stock investing and he will share his passion with those participating in the seminar.  Session 2 of 3 will be held Monday, October 20 at 6:00pm.  Session 3 will be held Monday, October 27 at 6:00pm.  Register online at www.murrysvillelibrary.org or call the library at 724-327-1102. The Murrysville Library is not endorsing the information provided. 
LOCATION:Murrysville Community Library at TechNook 
URL:http://events.wlnonline.org/eventsignup.asp?ID=45365
CATEGORIES:Adult Program
END:VEVENT
END:VCALENDAR
