BEGIN:VCALENDAR
METHOD:PUBLISH
PRODID:evanced event management system
VERSION:2.0
BEGIN:VEVENT
UID:http://events.wlnonline.org/eventsignup.asp?ID=45364
DTSTAMP:20250829T110032Z
DTSTART:20251030T200000Z
DTEND:20251030T210000Z
TITLE;ENCODING=QUOTED-PRINTABLE:Spookier Storytime
SUMMARY;ENCODING=QUOTED-PRINTABLE:Spookier Storytime
DESCRIPTION;ENCODING=QUOTED-PRINTABLE:Gather around the library if you dare for a spooky storytime that's sure to scare! Costumes encouraged.  Grades K - 4.  Register online at www.murrysvillelibrary.org or call the library at 724-327-1102.
LOCATION:Murrysville Community Library at Conference Room #1
URL:http://events.wlnonline.org/eventsignup.asp?ID=45364
CATEGORIES:Children's Program
END:VEVENT
END:VCALENDAR
