BEGIN:VCALENDAR
METHOD:PUBLISH
PRODID:evanced event management system
VERSION:2.0
BEGIN:VEVENT
UID:http://events.wlnonline.org/eventsignup.asp?ID=45358
DTSTAMP:20250915T101047Z
DTSTART:20251021T213000Z
DTEND:20251021T223000Z
TITLE;ENCODING=QUOTED-PRINTABLE:CANCELLED FOR OCTOBER - STEM Storytime
SUMMARY;ENCODING=QUOTED-PRINTABLE:CANCELLED FOR OCTOBER - STEM Storytime
DESCRIPTION;ENCODING=QUOTED-PRINTABLE:CANCELLED FOR OCTOBER - Join us for storytime and a themed craft the 3rd Tuesday of each month, with hands-on learning about science, technology, engineering, and mathematics! Grades K - 4. Register online at www.murrysvillelibrary.org or call the library at 724-327-1102. Please register for each session separately.
LOCATION:Murrysville Community Library at Conference Room #1
URL:http://events.wlnonline.org/eventsignup.asp?ID=45358
CATEGORIES:Children's Program
END:VEVENT
END:VCALENDAR
