BEGIN:VCALENDAR
METHOD:PUBLISH
PRODID:evanced event management system
VERSION:2.0
BEGIN:VEVENT
UID:http://events.wlnonline.org/eventsignup.asp?ID=45333
DTSTAMP:20250925T080239Z
DTSTART:20250912T150000Z
DTEND:20250912T150000Z
TITLE;ENCODING=QUOTED-PRINTABLE:Pre-K Picassos
SUMMARY;ENCODING=QUOTED-PRINTABLE:Pre-K Picassos
DESCRIPTION;ENCODING=QUOTED-PRINTABLE:&#127912; Pre-K Picassos=0D=0AFridays at 10:00 AM | Ages 2–6=0D=0AGet ready to paint, splash, and create! Join us for Pre-K Picassos, a playful art program where little artists explore colors, textures, and techniques through process art inspired by famous masterpieces. No pressure—just pure creativity and fun! Perfect for curious kids who love to get a little messy.
LOCATION:Penn Area Library at Multipurpose Room
URL:http://events.wlnonline.org/eventsignup.asp?ID=45333
CATEGORIES:Arts & Culture
END:VEVENT
END:VCALENDAR
