BEGIN:VCALENDAR
METHOD:PUBLISH
PRODID:evanced event management system
VERSION:2.0
BEGIN:VEVENT
UID:http://events.wlnonline.org/eventsignup.asp?ID=45330
DTSTAMP:20250826T180400Z
DTSTART:20250925T210000Z
DTEND:20250925T210000Z
TITLE;ENCODING=QUOTED-PRINTABLE:Teen Advisory Board
SUMMARY;ENCODING=QUOTED-PRINTABLE:Teen Advisory Board
DESCRIPTION;ENCODING=QUOTED-PRINTABLE:Join the Teen Advisory Board to earn volunteer hours while giving back to your community! =0D=0A=0D=0AWhat's on the adgenda? Board Elections!
LOCATION:Penn Area Library at Multipurpose Room
URL:http://events.wlnonline.org/eventsignup.asp?ID=45330
CATEGORIES:Teen Program
END:VEVENT
END:VCALENDAR
