BEGIN:VCALENDAR
METHOD:PUBLISH
PRODID:evanced event management system
VERSION:2.0
BEGIN:VEVENT
UID:http://events.wlnonline.org/eventsignup.asp?ID=45329
DTSTAMP:20250826T180207Z
DTSTART;VALUE=DATE:20250920
DTEND;VALUE=DATE:20250921
TITLE;ENCODING=QUOTED-PRINTABLE:Closed for Fall Festival 
SUMMARY;ENCODING=QUOTED-PRINTABLE:Closed for Fall Festival 
DESCRIPTION;ENCODING=QUOTED-PRINTABLE:Visit us at Penn Township's Fall Festival!
LOCATION:Penn Area Library
URL:http://events.wlnonline.org/eventsignup.asp?ID=45329
CATEGORIES:Holiday Library Closed
END:VEVENT
END:VCALENDAR
