BEGIN:VCALENDAR
METHOD:PUBLISH
PRODID:evanced event management system
VERSION:2.0
BEGIN:VEVENT
UID:http://events.wlnonline.org/eventsignup.asp?ID=45318
DTSTAMP:20250826T175136Z
DTSTART:20250902T200000Z
DTEND:20250902T200000Z
TITLE;ENCODING=QUOTED-PRINTABLE:Graphic Novel Book Club
SUMMARY;ENCODING=QUOTED-PRINTABLE:Graphic Novel Book Club
DESCRIPTION;ENCODING=QUOTED-PRINTABLE:For ages 8–12=0D=0ALove comics and graphic novels? Join our Graphic Novel Book Club where you'll read, discuss, and create your very own graphic novel! We'll kick things off on September 2nd—come grab your copy of Doodleville and get ready for a creative adventure full of imagination and art.
LOCATION:Penn Area Library at Library
URL:http://events.wlnonline.org/eventsignup.asp?ID=45318
CATEGORIES:Book Club
END:VEVENT
END:VCALENDAR
