BEGIN:VCALENDAR
METHOD:PUBLISH
PRODID:evanced event management system
VERSION:2.0
BEGIN:VEVENT
UID:http://events.wlnonline.org/eventsignup.asp?ID=45316
DTSTAMP:20250826T174942Z
DTSTART:20250902T210000Z
DTEND:20250902T210000Z
TITLE;ENCODING=QUOTED-PRINTABLE:Young Adult Book Club
SUMMARY;ENCODING=QUOTED-PRINTABLE:Young Adult Book Club
DESCRIPTION;ENCODING=QUOTED-PRINTABLE:Ages 13+=0D=0A=0D=0ACurrently Reading: Long Way Down, Novel and Graphic Novel by Jason Reynolds. =0D=0A=0D=0APick up your copy ahead of bookclub at the Penn Area Library.=0D=0A
LOCATION:Penn Area Library at Library
URL:http://events.wlnonline.org/eventsignup.asp?ID=45316
CATEGORIES:Book Club
END:VEVENT
END:VCALENDAR
