BEGIN:VCALENDAR
METHOD:PUBLISH
PRODID:evanced event management system
VERSION:2.0
BEGIN:VEVENT
UID:http://events.wlnonline.org/eventsignup.asp?ID=45310
DTSTAMP:20250826T173502Z
DTSTART:20250926T140000Z
DTEND:20250926T140000Z
TITLE;ENCODING=QUOTED-PRINTABLE:Pre-K Picassos
SUMMARY;ENCODING=QUOTED-PRINTABLE:Pre-K Picassos
DESCRIPTION;ENCODING=QUOTED-PRINTABLE:Fridays at 10:00 AM | Ages 2–6=0D=0AGet ready to paint, splash, and create! Join us for Pre-K Picassos, a playful art program where little artists explore colors, textures, and techniques through process art inspired by famous masterpieces. No pressure—just pure creativity and fun! Perfect for curious kids who love to get a little messy.
LOCATION:Penn Area Library at Multipurpose Room
URL:http://events.wlnonline.org/eventsignup.asp?ID=45310
CATEGORIES:Arts & Culture
END:VEVENT
END:VCALENDAR
