BEGIN:VCALENDAR
METHOD:PUBLISH
PRODID:evanced event management system
VERSION:2.0
BEGIN:VEVENT
UID:http://events.wlnonline.org/eventsignup.asp?ID=45275
DTSTAMP:20250915T152448Z
DTSTART:20250918T220000Z
DTEND:20250918T220000Z
TITLE;ENCODING=QUOTED-PRINTABLE:Talon Talk - Birds of Prey!
SUMMARY;ENCODING=QUOTED-PRINTABLE:Talon Talk - Birds of Prey!
DESCRIPTION;ENCODING=QUOTED-PRINTABLE:In this program, the audience will meet 4 various types of birds of prey found all over the world. learn about their personal histories, anatomy, hunting strategies, and habitats.=0D=0ALearn about what it takes to care for a bird of prey, and learn how Nature’s Educators is permitted to keep raptors. 
LOCATION:Rostraver Public Library
URL:http://events.wlnonline.org/eventsignup.asp?ID=45275
CATEGORIES:Community Event
END:VEVENT
END:VCALENDAR
