BEGIN:VCALENDAR
METHOD:PUBLISH
PRODID:evanced event management system
VERSION:2.0
BEGIN:VEVENT
UID:http://events.wlnonline.org/eventsignup.asp?ID=45273
DTSTAMP:20250825T105831Z
DTSTART:20250925T220000Z
DTEND:20250925T230000Z
TITLE;ENCODING=QUOTED-PRINTABLE:Book & Craft
SUMMARY;ENCODING=QUOTED-PRINTABLE:Book & Craft
DESCRIPTION;ENCODING=QUOTED-PRINTABLE:Enjoy stories and a craft.  This is for children 5 & up, so younger children will need help.=0D=0ATo register, call the Children’s Room at 724-537-4383 or stop by the Children’s Room desk.  
LOCATION:Adams Memorial Library at Children's Room
URL:http://events.wlnonline.org/eventsignup.asp?ID=45273
CATEGORIES:Children's Program
END:VEVENT
END:VCALENDAR
