BEGIN:VCALENDAR
METHOD:PUBLISH
PRODID:evanced event management system
VERSION:2.0
BEGIN:VEVENT
UID:http://events.wlnonline.org/eventsignup.asp?ID=45267
DTSTAMP:20250825T105420Z
DTSTART:20250917T170000Z
DTEND:20250917T173000Z
TITLE;ENCODING=QUOTED-PRINTABLE:Preschool Storytime
SUMMARY;ENCODING=QUOTED-PRINTABLE:Preschool Storytime
DESCRIPTION;ENCODING=QUOTED-PRINTABLE: Designed for friends from 2½ to 5 years old who enjoy listening to stories, and their caregivers.  This storytime features books on a different theme each week, plus songs and rhymes.  The same Preschool Storytime session is repeated Wednesday and Thursday each week.  Please register by calling the Children’s Room at 724-537-4383 or stopping by the Children’s Room desk.=0D=0ASpace may be limited.
LOCATION:Adams Memorial Library at Reed Room
URL:http://events.wlnonline.org/eventsignup.asp?ID=45267
CATEGORIES:Children's Program
END:VEVENT
END:VCALENDAR
