BEGIN:VCALENDAR
METHOD:PUBLISH
PRODID:evanced event management system
VERSION:2.0
BEGIN:VEVENT
UID:http://events.wlnonline.org/eventsignup.asp?ID=45238
DTSTAMP:20250825T100917Z
DTSTART:20250910T180000Z
DTEND:20250910T190000Z
TITLE;ENCODING=QUOTED-PRINTABLE: Argue Less and Talk More with Communication Expert Jefferson Fisher
SUMMARY;ENCODING=QUOTED-PRINTABLE: Argue Less and Talk More with Communication Expert Jefferson Fisher
DESCRIPTION;ENCODING=QUOTED-PRINTABLE:Join us for an afternoon virtual conversation with communication expert Jefferson Fisher, as we chat about his book, The Next Conversation: Argue Less, Talk More.  The Next Conversation gives you practical phrases that will lead to powerful results, from breaking down defensiveness in a hard talk with a family member to finding your own assertive voice at the boardroom conference table. Your every word matters, and by controlling how you communicate every day, you will create waves of positive impact that will resonate throughout your relationships to last a lifetime.=0D=0ATo register please visit our website.
LOCATION:Adams Memorial Library at Online
URL:http://events.wlnonline.org/eventsignup.asp?ID=45238
CATEGORIES:Adult Program
END:VEVENT
END:VCALENDAR
