BEGIN:VCALENDAR
METHOD:PUBLISH
PRODID:evanced event management system
VERSION:2.0
BEGIN:VEVENT
UID:http://events.wlnonline.org/eventsignup.asp?ID=45237
DTSTAMP:20250825T100737Z
DTSTART:20250903T230000Z
DTEND:20250904T000000Z
TITLE;ENCODING=QUOTED-PRINTABLE:On Writing Darkly Charming Villainous Love with Hannah Nicole Maehrer
SUMMARY;ENCODING=QUOTED-PRINTABLE:On Writing Darkly Charming Villainous Love with Hannah Nicole Maehrer
DESCRIPTION;ENCODING=QUOTED-PRINTABLE: Embrace your dark side (and your best evil laugh) and join us in conversation with Hannah Nicole Maehrer, creator of the New York Times bestselling Assistant to the Villain series.  Evie Sage didn’t mean to become the right-hand woman to the kingdom’s most terrifying villain. One minute, she was applying for an entry-level position that promised “light paperwork and occasional beheadings,” and the next, she was knee-deep in magical mayhem, murder plots, and an entirely inappropriate crush on her brooding, sharp-jawed, walking disaster of a boss.=0D=0ATo register please visit our website.
LOCATION:Adams Memorial Library at Online
URL:http://events.wlnonline.org/eventsignup.asp?ID=45237
CATEGORIES:Adult Program
END:VEVENT
END:VCALENDAR
