BEGIN:VCALENDAR
METHOD:PUBLISH
PRODID:evanced event management system
VERSION:2.0
BEGIN:VEVENT
UID:http://events.wlnonline.org/eventsignup.asp?ID=44835
DTSTAMP:20250926T133017Z
DTSTART:20250919T143000Z
DTEND:20250919T153000Z
TITLE;ENCODING=QUOTED-PRINTABLE:Ballet Storytime
SUMMARY;ENCODING=QUOTED-PRINTABLE:Ballet Storytime
DESCRIPTION;ENCODING=QUOTED-PRINTABLE:Enjoy the art of ballet at Storytime! We will read, stretch, learn ballet steps, dance, and make a craft together. This program is geared towards ages 3-6, but it is not a strict age limit. Registration is required and includes all sessions through May. 
LOCATION:Rostraver Public Library
URL:http://events.wlnonline.org/eventsignup.asp?ID=44835
CATEGORIES:Storytime
END:VEVENT
END:VCALENDAR
