BEGIN:VCALENDAR
METHOD:PUBLISH
PRODID:evanced event management system
VERSION:2.0
BEGIN:VEVENT
UID:http://events.wlnonline.org/eventsignup.asp?ID=44748
DTSTAMP:20250926T110514Z
DTSTART:20251006T223000Z
DTEND:20251007T000000Z
TITLE;ENCODING=QUOTED-PRINTABLE:Socrates Cafe
SUMMARY;ENCODING=QUOTED-PRINTABLE:Socrates Cafe
DESCRIPTION;ENCODING=QUOTED-PRINTABLE:Socrates Cafe is an affiliate of the Society of Philosophical Inquiry. New members are always welcome. We believe a diversity of opinion is important for a true exchange of ideas. The group meets the first Monday of each month.  The topic for discussion this month is “The Fermi Paradox and Extraterrestrial Life: If Life is so Common, Where is Everyone?” Moderator: Bill Novak.  Register online at www.murrysvillelibrary.org or call the library at 724-327-1102.
LOCATION:Murrysville Community Library at Conference Room #1
URL:http://events.wlnonline.org/eventsignup.asp?ID=44748
CATEGORIES:Adult Program
END:VEVENT
END:VCALENDAR
