BEGIN:VCALENDAR
METHOD:PUBLISH
PRODID:evanced event management system
VERSION:2.0
BEGIN:VEVENT
UID:http://events.wlnonline.org/eventsignup.asp?ID=44664
DTSTAMP:20250813T191725Z
DTSTART:20251120T210000Z
DTEND:20251120T230000Z
TITLE;ENCODING=QUOTED-PRINTABLE:Chess Club for Kids
SUMMARY;ENCODING=QUOTED-PRINTABLE:Chess Club for Kids
DESCRIPTION;ENCODING=QUOTED-PRINTABLE:From beginners to experts, our chess club welcomes players from ages 8-18. Join us at our Lower Burrell library to learn the basics or to challenge your skills.
LOCATION:Peoples Library
URL:http://events.wlnonline.org/eventsignup.asp?ID=44664
CATEGORIES:Fun & Games
END:VEVENT
END:VCALENDAR
