BEGIN:VCALENDAR
METHOD:PUBLISH
PRODID:evanced event management system
VERSION:2.0
BEGIN:VEVENT
UID:http://events.wlnonline.org/eventsignup.asp?ID=44545
DTSTAMP:20250812T141916Z
DTSTART:20251009T140000Z
DTEND:20251009T160000Z
TITLE;ENCODING=QUOTED-PRINTABLE:AAUW Speaker Series
SUMMARY;ENCODING=QUOTED-PRINTABLE:AAUW Speaker Series
DESCRIPTION;ENCODING=QUOTED-PRINTABLE:The Murrysville AAUW will host a special speaker each month as part of their monthly meetings. The Speaker for October is Dr. Kathleen Carley, AI with Updates. This event is free and open to all members of the community. A coffee/cookie reception will be held afterwards in the conference room at 11:15 am. Registration is not required.
LOCATION:Murrysville Community Library at TechNook 
URL:http://events.wlnonline.org/eventsignup.asp?ID=44545
CATEGORIES:Adult Program
END:VEVENT
END:VCALENDAR
