BEGIN:VCALENDAR
METHOD:PUBLISH
PRODID:evanced event management system
VERSION:2.0
BEGIN:VEVENT
UID:http://events.wlnonline.org/eventsignup.asp?ID=44544
DTSTAMP:20251212T132929Z
DTSTART:20251213T180000Z
DTEND:20251213T193000Z
TITLE;ENCODING=QUOTED-PRINTABLE:CANCELLED PROGRAM - Plant-Based Nutrition 
SUMMARY;ENCODING=QUOTED-PRINTABLE:CANCELLED PROGRAM - Plant-Based Nutrition 
DESCRIPTION;ENCODING=QUOTED-PRINTABLE:CANCELLED DUE TO INCLEMENT WEATHER - The group meets the 2nd Saturday of each month.
LOCATION:Murrysville Community Library at Conference Room #1
URL:http://events.wlnonline.org/eventsignup.asp?ID=44544
CATEGORIES:Adult Program
END:VEVENT
END:VCALENDAR
